BEGIN:VCALENDAR
VERSION:2.0
PRODID:-//wp-events-plugin.com//7.2.3.1//EN
TZID:Europe/Paris
X-WR-TIMEZONE:Europe/Paris
BEGIN:VEVENT
UID:107@lp-13.org
DTSTART;TZID=Europe/Paris:20260227T180000
DTEND;TZID=Europe/Paris:20260227T200000
DTSTAMP:20260221T141024Z
URL:https://www.lp-13.org/events/arles-conference-debat-la-militarisation-
 de-la-societe-et-la-guerre/
SUMMARY:ARLES\; Conférence-débat « La Militarisation de la société et 
 la Guerre »
DESCRIPTION:Vendredi 27 février 2026 à 18 h 00 –\nBoulevard des Lices -
  Arles\n\nAvec Henri Huille\, président de la Libre Pensée 13\n\nen savo
 ir plus
LOCATION:Maison des associations\,   Boulevard des Lices \, ARLES\, France
X-APPLE-STRUCTURED-LOCATION;VALUE=URI;X-ADDRESS=  Boulevard des Lices \, AR
 LES\, France;X-APPLE-RADIUS=100;X-TITLE=Maison des associations:geo:0,0
END:VEVENT
BEGIN:VTIMEZONE
TZID:Europe/Paris
X-LIC-LOCATION:Europe/Paris
BEGIN:STANDARD
DTSTART:20251026T020000
TZOFFSETFROM:+0200
TZOFFSETTO:+0100
TZNAME:CET
END:STANDARD
END:VTIMEZONE
END:VCALENDAR