BEGIN:VCALENDAR
VERSION:2.0
PRODID:-//wp-events-plugin.com//7.2.3.1//EN
TZID:Europe/Paris
X-WR-TIMEZONE:Europe/Paris
BEGIN:VEVENT
UID:9@lp-13.org
DTSTART;TZID=Europe/Paris:20211110T183000
DTEND;TZID=Europe/Paris:20211110T210000
DTSTAMP:20211101T130322Z
URL:https://www.lp-13.org/events/projection-du-film-de-bertrand-tavernier-
 la-vie-et-rien-dautre/
SUMMARY:VITROLLES: Projection du film de Bertrand Tavernier « La vie et ri
 en d’autre. »
DESCRIPTION:Quelques réflexions particulièrement dérangeantes sur la gue
 rre en général\, ses horreurs\, son absurdité\, sa cruauté et les rava
 ges qu’elle peut causer sur les vies bien après la fin de celle-ci Tave
 rnier fait passer quelques fâcheuses vérités sur la première guerre mo
 ndiale.
LOCATION:Cinéma les Lumières\, arcade des Citeaux\, VITROLLES\, 13127\, F
 rance
X-APPLE-STRUCTURED-LOCATION;VALUE=URI;X-ADDRESS=arcade des Citeaux\, VITROL
 LES\, 13127\, France;X-APPLE-RADIUS=100;X-TITLE=Cinéma les Lumières:geo:
 0,0
END:VEVENT
BEGIN:VTIMEZONE
TZID:Europe/Paris
X-LIC-LOCATION:Europe/Paris
BEGIN:STANDARD
DTSTART:20211031T020000
TZOFFSETFROM:+0200
TZOFFSETTO:+0100
TZNAME:CET
END:STANDARD
END:VTIMEZONE
END:VCALENDAR