BEGIN:VCALENDAR
VERSION:2.0
PRODID:-//wp-events-plugin.com//7.2.3.1//EN
TZID:Europe/Paris
X-WR-TIMEZONE:Europe/Paris
BEGIN:VEVENT
UID:14@lp-13.org
DTSTART;TZID=Europe/Paris:20211213T190000
DTEND;TZID=Europe/Paris:20211213T230000
DTSTAMP:20211125T152238Z
URL:https://www.lp-13.org/events/septemes-les-vallons-banquet-laique-repub
 licain/
SUMMARY:Septèmes-Les-Vallons\; Banquet Laïque & Républicain
DESCRIPTION:Lundi 13 décembre 2021\n\nÀ partir de 19 H 00 –\n\nVoir plu
 s
LOCATION:Centre culturel Louis Aragon\, Rue du Vallon du Maire\, Septèmes-
 Les-Vallons\, 13240\, France
X-APPLE-STRUCTURED-LOCATION;VALUE=URI;X-ADDRESS=Rue du Vallon du Maire\, Se
 ptèmes-Les-Vallons\, 13240\, France;X-APPLE-RADIUS=100;X-TITLE=Centre cul
 turel Louis Aragon:geo:0,0
END:VEVENT
BEGIN:VTIMEZONE
TZID:Europe/Paris
X-LIC-LOCATION:Europe/Paris
BEGIN:STANDARD
DTSTART:20211031T020000
TZOFFSETFROM:+0200
TZOFFSETTO:+0100
TZNAME:CET
END:STANDARD
END:VTIMEZONE
END:VCALENDAR