BEGIN:VCALENDAR
VERSION:2.0
PRODID:-//wp-events-plugin.com//7.2.3.1//EN
TZID:Europe/Paris
X-WR-TIMEZONE:Europe/Paris
BEGIN:VEVENT
UID:15@lp-13.org
DTSTART;TZID=Europe/Paris:20220226T100000
DTEND;TZID=Europe/Paris:20220226T140000
DTSTAMP:20220224T161245Z
URL:https://www.lp-13.org/events/vitrolles-assemblee-statutaire-annuelle-d
 u-groupe-debat/
SUMMARY:Vitrolles Assemblée statutaire annuelle du groupe & débat
DESCRIPTION:Samedi 26 février à 10.00 heures\nMaison de quartier « ferm
 e de Croze »\n\nAvenue de la ferme de Croze\n\nVITROLLES
LOCATION:Maison de quartier « ferme de Croze \, Avenue de la ferme de Cr
 oze\, VITROLLES\, 13127\, France
X-APPLE-STRUCTURED-LOCATION;VALUE=URI;X-ADDRESS=Avenue de la ferme de Croze
 \, VITROLLES\, 13127\, France;X-APPLE-RADIUS=100;X-TITLE=Maison de quartie
 r « ferme de Croze :geo:0,0
END:VEVENT
BEGIN:VTIMEZONE
TZID:Europe/Paris
X-LIC-LOCATION:Europe/Paris
BEGIN:STANDARD
DTSTART:20211031T020000
TZOFFSETFROM:+0200
TZOFFSETTO:+0100
TZNAME:CET
END:STANDARD
END:VTIMEZONE
END:VCALENDAR